





BEGIN:VCALENDAR
VERSION:2.0
PRODID:-//wp-events-plugin.com//7.2.3.1//EN
TZID:Europe/Helsinki
X-WR-TIMEZONE:Europe/Helsinki
BEGIN:VEVENT
UID:186977@bioscience.fi
DTSTART;TZID=Europe/Helsinki:20260827T083000
DTEND;TZID=Europe/Helsinki:20260828T163000
DTSTAMP:20260413T111318Z
URL:https://bioscience.fi/events/35th-biocity-symposium-vision-expanded/
SUMMARY:35th BioCity Symposium: Vision\, expanded
DESCRIPTION:27th-28th August 2026\nOnsite event\nin Mauno Koivisto Centre\,
  BioCity\, Turku\nPoster\n\nTurku is the beating heart of European imaging
 ! The 35th BioCity Symposium “Vision\, Expanded” brings together lead
 ing minds from academia and industry to explore imaging’s central role i
 n life science discovery. The Symposium will spotlight cutting-edge advanc
 es in light microscopy\, PET imaging\, and AI-powered image analysis\, whi
 le fostering dialogue on data integration\, emerging scientific applicatio
 ns\, and translational potential. Expect high-level talks and vibrant disc
 ussion that push the boundaries of imaging science.\n\nRegistration to the
  event is now open\, click!\n\nSubmit your abstract at latest Friday 5 Jun
 e 2026\, there is quota of 125. First come first serve!\nRegister to the e
 vent at latest Friday 14 August 2026\n\nInvited Speakers\nSally Eldeghaidy
 \, University of Nottingham\, UK\nRicardo Henriques\, ITQB NOVA\, Portugal
 \nHarry Hu\, Mayo Clinic Jacksonville\, Florida\, USA\nTeemu Ihalainen\, T
 ampere University\, Finland\nSinem Karaman\, University of Helsinki\, Finl
 and\nKarolina Punovuori\, MultivisionDx Oy\; University of Helsinki\, Finl
 and\nJörg Renkawitz\, Ludwig-Maximilians-Universität München\, Germany\
 nSubhojit Roy\, UC San Diego\, USA\nVera Schrauwen\, German Diabetes Cente
 r\, Germany\nSamantha Stehbens\, The University of Queensland\, Australia\
 n\n&nbsp\;\n\nAll updates and latest information is in the event webpage: 
 https://biocityturku.fi/biocity-symposium/\n\n&nbsp\;\n\nWelcome everyone!
 \n\n
ATTACH;FMTTYPE=image/jpeg:https://bioscience.fi/wp-content/uploads/2025/06
 /banners_square_smallest.jpg
CATEGORIES:Turku Bioscience Events
END:VEVENT
BEGIN:VTIMEZONE
TZID:Europe/Helsinki
X-LIC-LOCATION:Europe/Helsinki
BEGIN:DAYLIGHT
DTSTART:20260329T040000
TZOFFSETFROM:+0200
TZOFFSETTO:+0300
TZNAME:EEST
END:DAYLIGHT
END:VTIMEZONE
END:VCALENDAR