





BEGIN:VCALENDAR
VERSION:2.0
PRODID:-//wp-events-plugin.com//7.2.3.1//EN
TZID:Europe/Helsinki
X-WR-TIMEZONE:Europe/Helsinki
BEGIN:VEVENT
UID:1279@bioscience.fi
DTSTART;TZID=Europe/Helsinki:20180531T000000
DTEND;TZID=Europe/Helsinki:20181031T000000
DTSTAMP:20250306T103539Z
URL:https://bioscience.fi/events/academy-of-finland-grant-to-john-eriksson
 /
SUMMARY:Academy of Finland grant to John Eriksson
DESCRIPTION:    
ATTACH;FMTTYPE=image/jpeg:https://bioscience.fi/wp-content/uploads/2018/09
 /eriksson_john-1-1.jpg
END:VEVENT
BEGIN:VTIMEZONE
TZID:Europe/Helsinki
X-LIC-LOCATION:Europe/Helsinki
BEGIN:DAYLIGHT
DTSTART:20180325T040000
TZOFFSETFROM:+0200
TZOFFSETTO:+0300
TZNAME:EEST
END:DAYLIGHT
BEGIN:STANDARD
DTSTART:20181028T030000
TZOFFSETFROM:+0300
TZOFFSETTO:+0200
TZNAME:EET
END:STANDARD
END:VTIMEZONE
END:VCALENDAR