





BEGIN:VCALENDAR
VERSION:2.0
PRODID:-//wp-events-plugin.com//7.2.3.1//EN
TZID:Europe/Helsinki
X-WR-TIMEZONE:Europe/Helsinki
BEGIN:VEVENT
UID:186963@bioscience.fi
DTSTART;TZID=Europe/Helsinki:20250606T090000
DTEND;TZID=Europe/Helsinki:20250606T160000
DTSTAMP:20250522T162105Z
URL:https://bioscience.fi/events/bioinformatics-day/
SUMMARY:Bioinformatics Day
DESCRIPTION:  The Finnish Society for Bioinformatics and CompLifeSci are pr
 oudly joining forces to organize the Bioinformatics Day on the 6th of June
  in Cave Auditorium from 9 am to 4 pm\, followed by a networking event at 
 Circus in ElectroCity from 4pm to late.
ATTACH;FMTTYPE=image/jpeg:https://bioscience.fi/wp-content/uploads/2025/05
 /bioinfoday2025-thumbnail.jpg
CATEGORIES:Turku Bioscience Events
END:VEVENT
BEGIN:VTIMEZONE
TZID:Europe/Helsinki
X-LIC-LOCATION:Europe/Helsinki
BEGIN:DAYLIGHT
DTSTART:20250330T040000
TZOFFSETFROM:+0200
TZOFFSETTO:+0300
TZNAME:EEST
END:DAYLIGHT
END:VTIMEZONE
END:VCALENDAR