





BEGIN:VCALENDAR
VERSION:2.0
PRODID:-//wp-events-plugin.com//7.2.3.1//EN
TZID:Europe/Helsinki
X-WR-TIMEZONE:Europe/Helsinki
BEGIN:VEVENT
UID:186982@bioscience.fi
DTSTART;TZID=Europe/Helsinki:20250904T131500
DTEND;TZID=Europe/Helsinki:20250904T170000
DTSTAMP:20250903T045611Z
URL:https://bioscience.fi/events/defence-christel-sourander/
SUMMARY:Defence: Christel Sourander
DESCRIPTION:M.Sc. Christel Sourander will publicly defend her doctoral th
 esis in Cell Biology with a thesis entitled Identifying the effect of JNK
  on Neural Activity and Synaptic Plasticity Related to Anxiety- and Depres
 sive-like behaviours. Professor Tomi Rantamäki\, University of Helsinki\
 , Finland\, will serve as opponent and Docent\, Head of Research Eleanor 
 Coffey\, Åbo Akademi University\, as custos.
CATEGORIES:Turku Bioscience Events
LOCATION:Auditorium Armfelt\, Arken\, Tehtaankatu 2\, 20500\, Turku\, 20500
 \, Finland
GEO:60.456825;22.27859
X-APPLE-STRUCTURED-LOCATION;VALUE=URI;X-ADDRESS=Tehtaankatu 2\, 20500\, Tur
 ku\, 20500\, Finland;X-APPLE-RADIUS=100;X-TITLE=Auditorium Armfelt\, Arken
 :geo:60.456825,22.27859
END:VEVENT
BEGIN:VTIMEZONE
TZID:Europe/Helsinki
X-LIC-LOCATION:Europe/Helsinki
BEGIN:DAYLIGHT
DTSTART:20250330T040000
TZOFFSETFROM:+0200
TZOFFSETTO:+0300
TZNAME:EEST
END:DAYLIGHT
END:VTIMEZONE
END:VCALENDAR