





BEGIN:VCALENDAR
VERSION:2.0
PRODID:-//wp-events-plugin.com//7.2.3.1//EN
TZID:Europe/Helsinki
X-WR-TIMEZONE:Europe/Helsinki
BEGIN:VEVENT
UID:186960@bioscience.fi
DTSTART;TZID=Europe/Helsinki:20250522T120000
DTEND;TZID=Europe/Helsinki:20250522T160000
DTSTAMP:20250520T081312Z
URL:https://bioscience.fi/events/dissertation-defence-karoliina-hirvonen/
SUMMARY:Dissertation defence: Karoliina Hirvonen
DESCRIPTION:Karoliina Hirvonen  from Riitta Lahesmaa lab defends her PhD t
 hesis “Proteomics Insights into Type 1 Diabetes Development – Investig
 ating Changes in Serum Proteome and the Role of Persistent Enterovirus Inf
 ection” on Thursday the 22nd of May 2025 at 12 pm in Arje Scheinin hall\
 , 2nd floor\, Dentalia\, Turku. Her opponent is Professor Jochen Schwenk f
 rom Science for Life Laboratory\, KTH Royal Institute of Technology\, Swed
 en.
ATTACH;FMTTYPE=image/jpeg:https://bioscience.fi/wp-content/uploads/2025/05
 /Karoliina-e1747306698530.jpg
CATEGORIES:Turku Bioscience Events
END:VEVENT
BEGIN:VTIMEZONE
TZID:Europe/Helsinki
X-LIC-LOCATION:Europe/Helsinki
BEGIN:DAYLIGHT
DTSTART:20250330T040000
TZOFFSETFROM:+0200
TZOFFSETTO:+0300
TZNAME:EEST
END:DAYLIGHT
END:VTIMEZONE
END:VCALENDAR