





BEGIN:VCALENDAR
VERSION:2.0
PRODID:-//wp-events-plugin.com//7.2.3.1//EN
TZID:Europe/Helsinki
X-WR-TIMEZONE:Europe/Helsinki
BEGIN:VEVENT
UID:186959@bioscience.fi
DTSTART;TZID=Europe/Helsinki:20250516T120000
DTEND;TZID=Europe/Helsinki:20250516T160000
DTSTAMP:20250515T075429Z
URL:https://bioscience.fi/events/dissertation-inna-starskaia/
SUMMARY:Dissertation defence: Inna Starskaia
DESCRIPTION:  Inna Starskaia from Riitta Lahesmaa lab defends her PhD thesi
 s “Early immune response in children developing type 1 diabetes” on Fr
 iday the 15th of May 2025. Her opponent is Professor Katri Lindfors from T
 ampere University.
ATTACH;FMTTYPE=image/jpeg:https://bioscience.fi/wp-content/uploads/2025/02
 /Inna-starskia-012025-8-scaled.jpg
CATEGORIES:Turku Bioscience Events
END:VEVENT
BEGIN:VTIMEZONE
TZID:Europe/Helsinki
X-LIC-LOCATION:Europe/Helsinki
BEGIN:DAYLIGHT
DTSTART:20250330T040000
TZOFFSETFROM:+0200
TZOFFSETTO:+0300
TZNAME:EEST
END:DAYLIGHT
END:VTIMEZONE
END:VCALENDAR