





BEGIN:VCALENDAR
VERSION:2.0
PRODID:-//wp-events-plugin.com//7.2.3.1//EN
TZID:Europe/Helsinki
X-WR-TIMEZONE:Europe/Helsinki
BEGIN:VEVENT
UID:186968@bioscience.fi
DTSTART;TZID=Europe/Helsinki:20251023T120000
DTEND;TZID=Europe/Helsinki:20251023T130000
DTSTAMP:20250916T080138Z
URL:https://bioscience.fi/events/frontiers-of-science-prof-francesca-botan
 elli/
SUMMARY:Frontiers of Science: Prof. Francesca Bottanelli
DESCRIPTION:23rd October at 12:00\nOnsite event\nin Presidentti auditorium\
 , BioCity\nAutumn 2025 program\n\nProf. Francesca Bottanelli\, Freie Unive
 rsität Berlin\, Germany\nUnravelling the inner secrets of cells with live
 -cell super-resolution microscopy\n\nHost: Paulina Moreno Layseca (paulina
 .morenolayseca@utu.fi)\n\nCoffee and sandwich served at 11:45\, first come
  first serve!\n\n&nbsp\;\n\nSix PhD researchers and early-career postdocs 
 are welcome to have a lunch and discuss with Prof. Bottanelli after the se
 minar. This is a great possibility to learn hosting skills in a friendly e
 nvironment and create connections for future. Everyone is welcome to join\
 , BioCity Turku will offer the lunch.\n\nIf you got interested\, please se
 nd an email to biocityturku@bioscience.fi\n\n&nbsp\;\n\nBottanelli laborat
 ory integrates endogenous tagging with live-cell super-resolution STED mic
 roscopy to illuminate dynamic processes occurring at the nanoscale and in 
 the unperturbed physiological environment of the cell. They have generated
  a comprehensive library of proteins involved in membrane homeostasis. The
  ability to explore endogenous cellular dynamics is revealing novel and un
 explored sorting mechanisms. Bottanelli lab has provided functional charac
 terization of a novel sorting compartment that was named ARF1 compartment.
  ARF1 compartments orchestrate clathrin-dependent post-Golgi trafficking v
 ia maturing into recycling endosomes. Bottanelli lab also studies the func
 tion of microvilli as a signaling organelle and investigate how signalling
  molecules dynamically re-organize on membrane protrusions during chimeric
  antigenic receptor (CAR)–mediated activation.\n\n&nbsp\;\n\nSelected pu
 blications\n\nStockhammer A\, Adarska P\, Natalia V\, Heuhsen\, …\, Hauc
 ke V. &amp\; Bottanelli F. (2024) ARF1 compartments direct cargo flow via 
 maturation into recycling endosomes. Nat Cell Biol.\n\nMaib H\, Adarska P\
 , Hunton R\, Vines J\, Strutt D\, Bottanelli F &amp\; Murray D. H. (2024) 
 Recombinant biosensors for multiplex and super-resolution imaging of phosp
 hoinositides. J Cell Biol. 223 (6): e202310095\n\nRentsch J\, Bandstra S\,
  Sezen B\, Sigrist PS\, Bottanelli F\, Schmerl B\, Shoichet S\, Noé F\, S
 adeghi M and Ewers H (2024) Sub-membrane actin rings compartmentalize the 
 plasma membrane. J Cell Biol. 1\;223(4):e202310138\n\nWong-Dilworth L\, Ro
 dilla-Ramirez C\, Fox E\, Restel S\, Stockhammer A\, Adarska P and Bottane
 lli F (2023) STED imaging of endogenously tagged ARF GTPases reveals their
  distinct nanoscale localizations. J Cell Biol\, 222 (7): e202205107\n\n&n
 bsp\;\n\nGeneral information\n\n 	You can download and save all the autumn
  2025 FoS-seminars to your calendar from here: https://seafile.utu.fi/d/44
 a70f80ac1e46a9ad0a/\n 	Registration is not needed\, participation list is 
 circulated in the audience\n 	If you are a student and later wish to get a
  certificate of attendance from the Frontier of Science seminars\, print o
 ut the seminar diary and after the seminar ask the BioCity coordinator to 
 sign it https://seafile.utu.fi/d/44a70f80ac1e46a9ad0a/\n 	Please note that
  any audio or video recording of the seminars is strictly forbidden.\n 	Au
 tumn 2025 image credits to Kari Kaunisto: Sahlberg family collections\, Bi
 odiversity unit\, University of Turku\n
ATTACH;FMTTYPE=image/jpeg:https://bioscience.fi/wp-content/uploads/2025/05
 /bottanelli-500px-1.jpg
CATEGORIES:Turku Bioscience Events
END:VEVENT
BEGIN:VTIMEZONE
TZID:Europe/Helsinki
X-LIC-LOCATION:Europe/Helsinki
BEGIN:DAYLIGHT
DTSTART:20250330T040000
TZOFFSETFROM:+0200
TZOFFSETTO:+0300
TZNAME:EEST
END:DAYLIGHT
END:VTIMEZONE
END:VCALENDAR