





BEGIN:VCALENDAR
VERSION:2.0
PRODID:-//wp-events-plugin.com//7.2.3.1//EN
TZID:Europe/Helsinki
X-WR-TIMEZONE:Europe/Helsinki
BEGIN:VEVENT
UID:186920@bioscience.fi
DTSTART;TZID=Europe/Helsinki:19700101T000000
DTEND;TZID=Europe/Helsinki:19700101T000000
DTSTAMP:20260419T120359Z
URL:
SUMMARY:Immunology Seminar Series
DESCRIPTION:\n\nImmunology Seminar\nMay 6th at 14-15 (Finland time)\n\nVirt
 ual event\n\nSpeaker TBA\n\nRegister for the Immunology Seminar Series ema
 il list to get calendar invitation to the online seminar: https://link.web
 ropolsurveys.com/S/D29C32AA6E8A2F7A\n\nHost: Professor Riitta Lahesmaa ( r
 ilahes@utu.fi )\n\nImmunology seminar series is jointly organised by the F
 innish Society for Immunology\, InFLAMES Flagship and Turku Bioscience. Fo
 r further information contact Anne Lahdenperä  ( ankahy@utu.fi ) or Riit
 ta Lahesmaa ( rilahes@utu.fi )\, University of Turku.\n\n\n\nEdit
END:VEVENT
BEGIN:VTIMEZONE
TZID:Europe/Helsinki
X-LIC-LOCATION:Europe/Helsinki
BEGIN:STANDARD
DTSTART:19690101T000000
TZOFFSETFROM:+0200
TZOFFSETTO:+0200
TZNAME:EET
END:STANDARD
END:VTIMEZONE
END:VCALENDAR