





BEGIN:VCALENDAR
VERSION:2.0
PRODID:-//wp-events-plugin.com//7.2.3.1//EN
TZID:Europe/Helsinki
X-WR-TIMEZONE:Europe/Helsinki
BEGIN:VEVENT
UID:187010@bioscience.fi
DTSTART;TZID=Europe/Helsinki:20260512T123000
DTEND;TZID=Europe/Helsinki:20260512T133000
DTSTAMP:20260409T083147Z
URL:https://bioscience.fi/events/immunology-seminar-series-5/
SUMMARY:BioCity Turku Guest Seminar: Shimon Sakaguchi
DESCRIPTION:   
ATTACH;FMTTYPE=image/jpeg:https://bioscience.fi/wp-content/uploads/2025/12
 /thumb-shimonSakaguchi.jpg
CATEGORIES:Turku Bioscience Events
END:VEVENT
BEGIN:VTIMEZONE
TZID:Europe/Helsinki
X-LIC-LOCATION:Europe/Helsinki
BEGIN:DAYLIGHT
DTSTART:20260329T040000
TZOFFSETFROM:+0200
TZOFFSETTO:+0300
TZNAME:EEST
END:DAYLIGHT
END:VTIMEZONE
END:VCALENDAR