





BEGIN:VCALENDAR
VERSION:2.0
PRODID:-//wp-events-plugin.com//7.2.3.1//EN
TZID:Europe/Helsinki
X-WR-TIMEZONE:Europe/Helsinki
BEGIN:VEVENT
UID:187019@bioscience.fi
DTSTART;TZID=Europe/Helsinki:20260522T111500
DTEND;TZID=Europe/Helsinki:20260522T154500
DTSTAMP:20260325T085823Z
URL:https://bioscience.fi/events/infectomics-seminar-2026-single-cell-micr
 obiomics-from-genome-to-metabolome-challenges-and-opportunities/
SUMMARY:Infectomics Seminar 2026: Single-Cell Microbiomics: From Genome to 
 Metabolome Challenges and Opportunities
DESCRIPTION:Single-Cell Microbiomics: From Genome to Metabolome Challenges 
 and Opportunities\nThis meeting aims to explore the prospects and challeng
 es of applying single-cell approaches to prokaryotic systems\, while also 
 reflecting on what can be learned from recent advances in single-cell rese
 arch on eukaryotic microorganisms. By bringing together expertise from gen
 omics\, transcriptomics\, proteomics\, and metabolomics\, the seminar will
  highlight emerging technologies and discuss future opportunities for inte
 grative single-cell microbiomics.\n\nFlyer\n\nProgramme\n\n11:15–12:00 S
 alad buffet\n12:00–12:05 Welcome and opening remarks\nProf. Jukka Hytön
 en and Adj. Prof. Santosh Lamichhane\n\nSession 1 – Eukaryotes\n12:05–
 12:40 Why Single-Cell Research Began: Lessons from Immune Cells Adj.\nProf
 . Tapio Lönnberg\, Turku Bioscience\, University of Turku and Åbo Academ
 y\n12:40–13:00 Decoding Borrelia infection – from transcriptomics to m
 olecular mechanisms.\nVarpu Rinne\, Institute of Biomedicine\, University 
 of Turku\n13:00–13:40 Mass spectrometry-based single-cell omics: Proteom
 ics meets metabolomics\nResearch Director Otto Kauko &amp\; Adj. Prof. Ale
 x Dickens\, Turku Bioscience\, University of Turku and Åbo Academy\n\n13:
 40–14:00 Coffee break\n\nSession 1 – Single-Cell Research to Prokaryo
 tes\n14:00–14:40 Investigating microbial life in their natural habitats 
 using single cell transcriptomics.\nAdj. Prof. Manu Tamminen\, Department 
 of Biology\, University of Turku\n14:40–15:20: Host-microbe metabolic in
 teractions at the micrometer scale.\nProf. Manuel Liebeke\, University of 
 Kiel\, Germany\n15:20–15:45 Discussion and Closing remarks\nAdj. Prof. K
 irsi Gröndahl-Yli-Hannuksela and Santosh Lamichhane\n\n&nbsp\;\n\nPlease 
 register via: https://eve.utu.fi/event/184/\n\nNote: Salad buffet limited 
 to first 50 registrants. So hurry up!\n\n&nbsp\;\n\nMore information about
  the event contact Santosh Lamichhane: santosh.lamichhane@utu.fi
ATTACH;FMTTYPE=image/jpeg:https://bioscience.fi/wp-content/uploads/2026/03
 /thumb-SCmicrobiomics.jpg
CATEGORIES:Turku Bioscience Events
END:VEVENT
BEGIN:VTIMEZONE
TZID:Europe/Helsinki
X-LIC-LOCATION:Europe/Helsinki
BEGIN:DAYLIGHT
DTSTART:20260329T040000
TZOFFSETFROM:+0200
TZOFFSETTO:+0300
TZNAME:EEST
END:DAYLIGHT
END:VTIMEZONE
END:VCALENDAR