





BEGIN:VCALENDAR
VERSION:2.0
PRODID:-//wp-events-plugin.com//7.2.3.1//EN
TZID:Europe/Helsinki
X-WR-TIMEZONE:Europe/Helsinki
BEGIN:VEVENT
UID:186958@bioscience.fi
DTSTART;TZID=Europe/Helsinki:20250613T130000
DTEND;TZID=Europe/Helsinki:20250613T151500
DTSTAMP:20250612T031813Z
URL:https://bioscience.fi/events/save-the-date-nobel-laureate-prof-stefan-
 hell-visits-turku-13-june-2025-turku-bioscience/
SUMMARY:Nobel laureate Prof. Stefan Hell visits Turku 13 June 2025 – Turk
 u Bioscience
DESCRIPTION:UTU Faculty of Medicine together with Turku BioImaging and the 
 Field of View research program will organize a Minisymposium\, “Future o
 f Imaging”\, on 13 June 2025 in Biocity Presidentti Auditorium. The keyn
 ote talk will be given by Nobel Laureate Stefan Hell.\nProgramme highlight
 s\n• Nobel laureate\, Professor Stefan Hell\n• Expert and student talk
 s\n• Panel discussion: Imaging in the rapidly changing AI landscape\n\nR
 egister to the event here\, click!\n\nStay tuned for the program: https://
 www.utu.fi/fi/ajankohtaista/tapahtumat/future-of-imaging-minisymposium\n\n
 Image by Ilkka Paatero
ATTACH;FMTTYPE=image/jpeg:https://bioscience.fi/wp-content/uploads/2025/05
 /imaging-thumbnail.webp
CATEGORIES:Turku Bioscience Events
END:VEVENT
BEGIN:VTIMEZONE
TZID:Europe/Helsinki
X-LIC-LOCATION:Europe/Helsinki
BEGIN:DAYLIGHT
DTSTART:20250330T040000
TZOFFSETFROM:+0200
TZOFFSETTO:+0300
TZNAME:EEST
END:DAYLIGHT
END:VTIMEZONE
END:VCALENDAR