





BEGIN:VCALENDAR
VERSION:2.0
PRODID:-//wp-events-plugin.com//7.2.3.1//EN
TZID:Europe/Helsinki
X-WR-TIMEZONE:Europe/Helsinki
BEGIN:VEVENT
UID:186921@bioscience.fi
DTSTART;TZID=Europe/Helsinki:19700101T000000
DTEND;TZID=Europe/Helsinki:19700101T000000
DTSTAMP:20260421T103814Z
URL:
SUMMARY:Suggest your publication as the winner of Elias Tillandz publicatio
 n prize 2024!
DESCRIPTION:\n\nIn the context of the 34th BioCity Symposium (28–29 Augus
 t 2025)\, the twenty-first Elias Tillandz prize will be awarded for the be
 st scientific paper published in 2024 in Turku.\n\n\n\nBioCity Turku asks 
 for proposals for the prize to be submitted by email to biocityturku@bios
 cience.fi by 31st March 2025 at 23:59 at the latest. The proposal shoul
 d include a short (max. 200 words) cover letter and the publication\, both
  together as one pdf file.\n\n\n\nThe proposed paper should have been pub
 lished during year 2024 based on either electronic publication date or cov
 er date of the printed magazine. The topic of the publication should be in
  the area of life science or molecular medicine or any other closely relat
 ed field. Turku scientists (working in the University of Turku\, Åbo Akad
 emi University or other research institutes in Turku) should be the the fi
 rst and last authors and most of the research work should have been conduc
 ted in Turku.\n\n\n\nFor more information please contact Maija Lespinasse\
 , 040 5658 654\, biocityturku@bioscience.fi.\n\n\n\nRules of the Elias Ti
 llandz prize https://biocityturku.fi/wp-content/uploads/Rules_2023_ENG.pdf
 \nElias Tillandz -palkinnon säännöthttps://biocityturku.fi/wp-content/u
 ploads/Rules_2023_FIN.pdf\nRegler för Elias Tillandz -prisethttps://bioci
 tyturku.fi/wp-content/uploads/Rules_2023_SWE.pdf\nElias Tillandz prize arc
 hivehttps://biocityturku.fi/elias-tillandz-prize-archive/\nWho was Elias T
 illandz? https://biocityturku.fi/elias-tillandz-prize/#eliastillandz\nGet 
 to know BioCity Turkuhttps://www.esitteemme.fi/biocityturku/MailView/\n
END:VEVENT
BEGIN:VTIMEZONE
TZID:Europe/Helsinki
X-LIC-LOCATION:Europe/Helsinki
BEGIN:STANDARD
DTSTART:19690101T000000
TZOFFSETFROM:+0200
TZOFFSETTO:+0200
TZNAME:EET
END:STANDARD
END:VTIMEZONE
END:VCALENDAR